BEGIN:VCALENDAR
VERSION:2.0
PRODID:-//WIR sind Ried i.G. | aus der Gemeinde für die Gemeinde &amp; von Bürgerschaft mit Organisationen - ECPv6.15.20//NONSGML v1.0//EN
CALSCALE:GREGORIAN
METHOD:PUBLISH
X-WR-CALNAME:WIR sind Ried i.G. | aus der Gemeinde für die Gemeinde &amp; von Bürgerschaft mit Organisationen
X-ORIGINAL-URL:https://wirsindried.de
X-WR-CALDESC:Veranstaltungen für WIR sind Ried i.G. | aus der Gemeinde für die Gemeinde &amp; von Bürgerschaft mit Organisationen
REFRESH-INTERVAL;VALUE=DURATION:PT1H
X-Robots-Tag:noindex
X-PUBLISHED-TTL:PT1H
BEGIN:VTIMEZONE
TZID:Europe/Berlin
BEGIN:DAYLIGHT
TZOFFSETFROM:+0100
TZOFFSETTO:+0200
TZNAME:CEST
DTSTART:20240331T010000
END:DAYLIGHT
BEGIN:STANDARD
TZOFFSETFROM:+0200
TZOFFSETTO:+0100
TZNAME:CET
DTSTART:20241027T010000
END:STANDARD
BEGIN:DAYLIGHT
TZOFFSETFROM:+0100
TZOFFSETTO:+0200
TZNAME:CEST
DTSTART:20250330T010000
END:DAYLIGHT
BEGIN:STANDARD
TZOFFSETFROM:+0200
TZOFFSETTO:+0100
TZNAME:CET
DTSTART:20251026T010000
END:STANDARD
BEGIN:DAYLIGHT
TZOFFSETFROM:+0100
TZOFFSETTO:+0200
TZNAME:CEST
DTSTART:20260329T010000
END:DAYLIGHT
BEGIN:STANDARD
TZOFFSETFROM:+0200
TZOFFSETTO:+0100
TZNAME:CET
DTSTART:20261025T010000
END:STANDARD
END:VTIMEZONE
BEGIN:VEVENT
DTSTART;TZID=Europe/Berlin:20250916T000000
DTEND;TZID=Europe/Berlin:20250916T235959
DTSTAMP:20260420T104412
CREATED:20250807T175954Z
LAST-MODIFIED:20250916T185917Z
UID:18838-1757980800-1758067199@wirsindried.de
SUMMARY:???? Helferkreis OEK Bachern Verleihservice & Kleinanzeigen (Eisenbachtal)
DESCRIPTION:http://service.friedberg-bachern.de
URL:https://wirsindried.de/veranstaltungen/%f0%9f%93%85-helferkreis-oek-bachern-verleihservice-kleinanzeigen-eisenbachtal-81
END:VEVENT
BEGIN:VEVENT
DTSTART;TZID=Europe/Berlin:20250916T000000
DTEND;TZID=Europe/Berlin:20250916T235959
DTSTAMP:20260420T104412
CREATED:20250807T175954Z
LAST-MODIFIED:20260418T110328Z
UID:18839-1757980800-1758067199@wirsindried.de
SUMMARY:???? Helferkreis OEK Bachern Ukraine Hilfe (Eisenbachtal)
DESCRIPTION:https://lra-aic-fdb.de/landratsamt/fachbereiche/abteilung-3-oeffentliche-sicherheit-verbraucherschutz/auslaenderwesen-personenstandswesen/ukraine/
URL:https://wirsindried.de/veranstaltungen/%f0%9f%93%85-helferkreis-oek-bachern-ukraine-hilfe-eisenbachtal-81
END:VEVENT
BEGIN:VEVENT
DTSTART;TZID=Europe/Berlin:20250916T073000
DTEND;TZID=Europe/Berlin:20250916T143000
DTSTAMP:20260420T104412
CREATED:20250808T180009Z
LAST-MODIFIED:20250915T185904Z
UID:18855-1758007800-1758033000@wirsindried.de
SUMMARY:???? Kindergarten Betreuung & Spielgruppen Bachern (Kinderangebote)
DESCRIPTION:https://www.pfarreiengemeinschaft-ottmaring.de/haus-des-kindes-st-hedwig/
URL:https://wirsindried.de/veranstaltungen/%f0%9f%a7%92-kindergarten-betreuung-spielgruppen-bachern-kinderangebote-406
END:VEVENT
BEGIN:VEVENT
DTSTART;TZID=Europe/Berlin:20250916T083000
DTEND;TZID=Europe/Berlin:20250916T163000
DTSTAMP:20260420T104412
CREATED:20250808T180008Z
LAST-MODIFIED:20250915T185904Z
UID:18854-1758011400-1758040200@wirsindried.de
SUMMARY:???? Nachbarschaftshilfe Fahrdienst BEATE Bürgernetz Friedberg (Begleitete Einkaufsfahrten\, Arztbesuche und Termine mit dem Fahrdienst im Ehrenamt)
DESCRIPTION:http://www.buergernetz-friedberg.de
URL:https://wirsindried.de/veranstaltungen/%f0%9f%9a%90-nachbarschaftshilfe-fahrdienst-beate-buergernetz-friedberg-begleitete-einkaufsfahrten-arztbesuche-und-termine-mit-dem-fahrdienst-im-ehrenamt-437
END:VEVENT
BEGIN:VEVENT
DTSTART;TZID=Europe/Berlin:20250916T084500
DTEND;TZID=Europe/Berlin:20250916T091500
DTSTAMP:20260420T104412
CREATED:20250808T180009Z
LAST-MODIFIED:20250915T185903Z
UID:18856-1758012300-1758014100@wirsindried.de
SUMMARY:???? Mobile Backstube Scharold Dorfplatz Bachern (Brot\, Brezen\, Semmeln\, Gebäck)
DESCRIPTION:https://goo.gl/maps/Nb6Ug82A6asEgZUg8
URL:https://wirsindried.de/veranstaltungen/%f0%9f%8d%b2-mobile-backstube-scharold-dorfplatz-bachern-brot-brezen-semmeln-gebaeck-93
END:VEVENT
BEGIN:VEVENT
DTSTART;TZID=Europe/Berlin:20250916T190000
DTEND;TZID=Europe/Berlin:20250916T220000
DTSTAMP:20260420T104412
CREATED:20250808T180009Z
LAST-MODIFIED:20250916T185917Z
UID:18857-1758049200-1758060000@wirsindried.de
SUMMARY:???? Beirat Friedberg (Stadt Friedberg Bayern)
DESCRIPTION:https://buergerinfo-friedberg.digitalfabrix.de/
URL:https://wirsindried.de/veranstaltungen/%f0%9f%8f%a2-beirat-friedberg-stadt-friedberg-bayern-59
END:VEVENT
END:VCALENDAR