BEGIN:VCALENDAR
VERSION:2.0
PRODID:-//WIR sind Ried i.G. | aus der Gemeinde für die Gemeinde &amp; von Bürgerschaft mit Organisationen - ECPv6.15.20//NONSGML v1.0//EN
CALSCALE:GREGORIAN
METHOD:PUBLISH
X-WR-CALNAME:WIR sind Ried i.G. | aus der Gemeinde für die Gemeinde &amp; von Bürgerschaft mit Organisationen
X-ORIGINAL-URL:https://wirsindried.de
X-WR-CALDESC:Veranstaltungen für WIR sind Ried i.G. | aus der Gemeinde für die Gemeinde &amp; von Bürgerschaft mit Organisationen
REFRESH-INTERVAL;VALUE=DURATION:PT1H
X-Robots-Tag:noindex
X-PUBLISHED-TTL:PT1H
BEGIN:VTIMEZONE
TZID:Europe/Berlin
BEGIN:DAYLIGHT
TZOFFSETFROM:+0100
TZOFFSETTO:+0200
TZNAME:CEST
DTSTART:20240331T010000
END:DAYLIGHT
BEGIN:STANDARD
TZOFFSETFROM:+0200
TZOFFSETTO:+0100
TZNAME:CET
DTSTART:20241027T010000
END:STANDARD
BEGIN:DAYLIGHT
TZOFFSETFROM:+0100
TZOFFSETTO:+0200
TZNAME:CEST
DTSTART:20250330T010000
END:DAYLIGHT
BEGIN:STANDARD
TZOFFSETFROM:+0200
TZOFFSETTO:+0100
TZNAME:CET
DTSTART:20251026T010000
END:STANDARD
BEGIN:DAYLIGHT
TZOFFSETFROM:+0100
TZOFFSETTO:+0200
TZNAME:CEST
DTSTART:20260329T010000
END:DAYLIGHT
BEGIN:STANDARD
TZOFFSETFROM:+0200
TZOFFSETTO:+0100
TZNAME:CET
DTSTART:20261025T010000
END:STANDARD
END:VTIMEZONE
BEGIN:VEVENT
DTSTART;TZID=Europe/Berlin:20250913T000000
DTEND;TZID=Europe/Berlin:20250913T235959
DTSTAMP:20260420T155114
CREATED:20250804T175948Z
LAST-MODIFIED:20251108T124456Z
UID:18796-1757721600-1757807999@wirsindried.de
SUMMARY:???? Arbeitskreis Region OEK Erlauholz #Initiative Rückenwind (Jung & Alt)
DESCRIPTION:http://www.erlauholz.de
URL:https://wirsindried.de/veranstaltungen/%f0%9f%93%85-arbeitskreis-region-oek-erlauholz-initiative-rueckenwind-jung-alt-80
END:VEVENT
BEGIN:VEVENT
DTSTART;TZID=Europe/Berlin:20250913T000000
DTEND;TZID=Europe/Berlin:20250913T235959
DTSTAMP:20260420T155114
CREATED:20250805T175936Z
LAST-MODIFIED:20250913T185904Z
UID:18804-1757721600-1757807999@wirsindried.de
SUMMARY:???? Helferkreis OEK Bachern "Leuchttürme Blackout" (Eisenbachtal)
DESCRIPTION:https://www.friedberg.de/wirtschaft-bauen/katastrophenschutz/
URL:https://wirsindried.de/veranstaltungen/%f0%9f%93%85-helferkreis-oek-bachern-leuchttuerme-blackout-eisenbachtal-50
END:VEVENT
BEGIN:VEVENT
DTSTART;TZID=Europe/Berlin:20250913T000000
DTEND;TZID=Europe/Berlin:20250913T235959
DTSTAMP:20260420T155114
CREATED:20250805T175937Z
LAST-MODIFIED:20250913T185904Z
UID:18805-1757721600-1757807999@wirsindried.de
SUMMARY:???? Arbeitskreis Region OEK Eisenbachtal #Gern Dahoam (Jung & Alt)
DESCRIPTION:http://www.eisenbachtal.info
URL:https://wirsindried.de/veranstaltungen/%f0%9f%93%85-arbeitskreis-region-oek-eisenbachtal-gern-dahoam-jung-alt-80
END:VEVENT
BEGIN:VEVENT
DTSTART;TZID=Europe/Berlin:20250913T070000
DTEND;TZID=Europe/Berlin:20250913T200000
DTSTAMP:20260420T155114
CREATED:20250805T175938Z
LAST-MODIFIED:20250912T185921Z
UID:18812-1757746800-1757793600@wirsindried.de
SUMMARY:???? Dorfplatz Dorfladenbox Eisenbachtal (regionale Produkte & Services)
DESCRIPTION:http://dorfladenbox.friedberg-bachern.de
URL:https://wirsindried.de/veranstaltungen/%f0%9f%8d%b2-dorfplatz-dorfladenbox-eisenbachtal-regionale-produkte-services-86
END:VEVENT
BEGIN:VEVENT
DTSTART;TZID=Europe/Berlin:20250913T140000
DTEND;TZID=Europe/Berlin:20250913T150000
DTSTAMP:20260420T155114
CREATED:20250804T175948Z
LAST-MODIFIED:20250912T185910Z
UID:18795-1757772000-1757775600@wirsindried.de
SUMMARY:???? Jahresprogramm OGV Obst- und Gartenbauverein Bachern-Rohrbach e.V. (Jung & Alt)
DESCRIPTION:http://ogv.friedberg-bachern.de/
URL:https://wirsindried.de/veranstaltungen/%f0%9f%93%85-jahresprogramm-ogv-obst-und-gartenbauverein-bachern-rohrbach-e-v-jung-alt-74
END:VEVENT
BEGIN:VEVENT
DTSTART;TZID=Europe/Berlin:20250913T190000
DTEND;TZID=Europe/Berlin:20250913T210000
DTSTAMP:20260420T155114
CREATED:20250804T175948Z
LAST-MODIFIED:20250913T185903Z
UID:18799-1757790000-1757797200@wirsindried.de
SUMMARY:???? Jahresprogramm LJB Landjugend Bachern e.V. (Jugend)
DESCRIPTION:http://www.landjugend-bachern.de
URL:https://wirsindried.de/veranstaltungen/%f0%9f%93%85-jahresprogramm-ljb-landjugend-bachern-e-v-jugend-80
END:VEVENT
END:VCALENDAR