BEGIN:VCALENDAR
VERSION:2.0
PRODID:-//WIR sind Ried i.G. | aus der Gemeinde für die Gemeinde &amp; von Bürgerschaft mit Organisationen - ECPv6.15.20//NONSGML v1.0//EN
CALSCALE:GREGORIAN
METHOD:PUBLISH
X-WR-CALNAME:WIR sind Ried i.G. | aus der Gemeinde für die Gemeinde &amp; von Bürgerschaft mit Organisationen
X-ORIGINAL-URL:https://wirsindried.de
X-WR-CALDESC:Veranstaltungen für WIR sind Ried i.G. | aus der Gemeinde für die Gemeinde &amp; von Bürgerschaft mit Organisationen
REFRESH-INTERVAL;VALUE=DURATION:PT1H
X-Robots-Tag:noindex
X-PUBLISHED-TTL:PT1H
BEGIN:VTIMEZONE
TZID:Europe/Berlin
BEGIN:DAYLIGHT
TZOFFSETFROM:+0100
TZOFFSETTO:+0200
TZNAME:CEST
DTSTART:20240331T010000
END:DAYLIGHT
BEGIN:STANDARD
TZOFFSETFROM:+0200
TZOFFSETTO:+0100
TZNAME:CET
DTSTART:20241027T010000
END:STANDARD
BEGIN:DAYLIGHT
TZOFFSETFROM:+0100
TZOFFSETTO:+0200
TZNAME:CEST
DTSTART:20250330T010000
END:DAYLIGHT
BEGIN:STANDARD
TZOFFSETFROM:+0200
TZOFFSETTO:+0100
TZNAME:CET
DTSTART:20251026T010000
END:STANDARD
BEGIN:DAYLIGHT
TZOFFSETFROM:+0100
TZOFFSETTO:+0200
TZNAME:CEST
DTSTART:20260329T010000
END:DAYLIGHT
BEGIN:STANDARD
TZOFFSETFROM:+0200
TZOFFSETTO:+0100
TZNAME:CET
DTSTART:20261025T010000
END:STANDARD
END:VTIMEZONE
BEGIN:VEVENT
DTSTART;TZID=Europe/Berlin:20250906T000000
DTEND;TZID=Europe/Berlin:20250906T235959
DTSTAMP:20260424T130858
CREATED:20250728T171435Z
LAST-MODIFIED:20251108T124456Z
UID:18662-1757116800-1757203199@wirsindried.de
SUMMARY:???? Arbeitskreis Region OEK Erlauholz #Initiative Rückenwind (Jung & Alt)
DESCRIPTION:http://www.erlauholz.de
URL:https://wirsindried.de/veranstaltungen/%f0%9f%93%85-arbeitskreis-region-oek-erlauholz-initiative-rueckenwind-jung-alt-79
END:VEVENT
BEGIN:VEVENT
DTSTART;TZID=Europe/Berlin:20250906T000000
DTEND;TZID=Europe/Berlin:20250906T235959
DTSTAMP:20260424T130858
CREATED:20250728T171435Z
LAST-MODIFIED:20250906T185907Z
UID:18661-1757116800-1757203199@wirsindried.de
SUMMARY:???? Helferkreis OEK Bachern "Leuchttürme Blackout" (Eisenbachtal)
DESCRIPTION:https://www.friedberg.de/wirtschaft-bauen/katastrophenschutz/
URL:https://wirsindried.de/veranstaltungen/%f0%9f%93%85-helferkreis-oek-bachern-leuchttuerme-blackout-eisenbachtal-49
END:VEVENT
BEGIN:VEVENT
DTSTART;TZID=Europe/Berlin:20250906T000000
DTEND;TZID=Europe/Berlin:20250906T235959
DTSTAMP:20260424T130858
CREATED:20250730T172952Z
LAST-MODIFIED:20250906T185907Z
UID:18691-1757116800-1757203199@wirsindried.de
SUMMARY:???? Arbeitskreis Region OEK Eisenbachtal #Gern Dahoam (Jung & Alt)
DESCRIPTION:http://www.eisenbachtal.info
URL:https://wirsindried.de/veranstaltungen/%f0%9f%93%85-arbeitskreis-region-oek-eisenbachtal-gern-dahoam-jung-alt-79
END:VEVENT
BEGIN:VEVENT
DTSTART;TZID=Europe/Berlin:20250906T070000
DTEND;TZID=Europe/Berlin:20250906T200000
DTSTAMP:20260424T130858
CREATED:20250729T171522Z
LAST-MODIFIED:20250905T185904Z
UID:18679-1757142000-1757188800@wirsindried.de
SUMMARY:???? Dorfplatz Dorfladenbox Eisenbachtal (regionale Produkte & Services)
DESCRIPTION:http://dorfladenbox.friedberg-bachern.de
URL:https://wirsindried.de/veranstaltungen/%f0%9f%8d%b2-dorfplatz-dorfladenbox-eisenbachtal-regionale-produkte-services-85
END:VEVENT
BEGIN:VEVENT
DTSTART;TZID=Europe/Berlin:20250906T140000
DTEND;TZID=Europe/Berlin:20250906T150000
DTSTAMP:20260424T130858
CREATED:20250728T171437Z
LAST-MODIFIED:20250905T185916Z
UID:18671-1757167200-1757170800@wirsindried.de
SUMMARY:???? Jahresprogramm OGV Obst- und Gartenbauverein Bachern-Rohrbach e.V. (Jung & Alt)
DESCRIPTION:http://ogv.friedberg-bachern.de/
URL:https://wirsindried.de/veranstaltungen/%f0%9f%93%85-jahresprogramm-ogv-obst-und-gartenbauverein-bachern-rohrbach-e-v-jung-alt-73
END:VEVENT
BEGIN:VEVENT
DTSTART;TZID=Europe/Berlin:20250906T190000
DTEND;TZID=Europe/Berlin:20250906T210000
DTSTAMP:20260424T130858
CREATED:20250728T171437Z
LAST-MODIFIED:20250906T185907Z
UID:18672-1757185200-1757192400@wirsindried.de
SUMMARY:???? Jahresprogramm LJB Landjugend Bachern e.V. (Jugend)
DESCRIPTION:http://www.landjugend-bachern.de
URL:https://wirsindried.de/veranstaltungen/%f0%9f%93%85-jahresprogramm-ljb-landjugend-bachern-e-v-jugend-79
END:VEVENT
END:VCALENDAR