BEGIN:VCALENDAR
VERSION:2.0
PRODID:-//WIR sind Ried i.G. | aus der Gemeinde für die Gemeinde &amp; von Bürgerschaft mit Organisationen - ECPv6.15.20//NONSGML v1.0//EN
CALSCALE:GREGORIAN
METHOD:PUBLISH
X-WR-CALNAME:WIR sind Ried i.G. | aus der Gemeinde für die Gemeinde &amp; von Bürgerschaft mit Organisationen
X-ORIGINAL-URL:https://wirsindried.de
X-WR-CALDESC:Veranstaltungen für WIR sind Ried i.G. | aus der Gemeinde für die Gemeinde &amp; von Bürgerschaft mit Organisationen
REFRESH-INTERVAL;VALUE=DURATION:PT1H
X-Robots-Tag:noindex
X-PUBLISHED-TTL:PT1H
BEGIN:VTIMEZONE
TZID:Europe/Berlin
BEGIN:DAYLIGHT
TZOFFSETFROM:+0100
TZOFFSETTO:+0200
TZNAME:CEST
DTSTART:20240331T010000
END:DAYLIGHT
BEGIN:STANDARD
TZOFFSETFROM:+0200
TZOFFSETTO:+0100
TZNAME:CET
DTSTART:20241027T010000
END:STANDARD
BEGIN:DAYLIGHT
TZOFFSETFROM:+0100
TZOFFSETTO:+0200
TZNAME:CEST
DTSTART:20250330T010000
END:DAYLIGHT
BEGIN:STANDARD
TZOFFSETFROM:+0200
TZOFFSETTO:+0100
TZNAME:CET
DTSTART:20251026T010000
END:STANDARD
BEGIN:DAYLIGHT
TZOFFSETFROM:+0100
TZOFFSETTO:+0200
TZNAME:CEST
DTSTART:20260329T010000
END:DAYLIGHT
BEGIN:STANDARD
TZOFFSETFROM:+0200
TZOFFSETTO:+0100
TZNAME:CET
DTSTART:20261025T010000
END:STANDARD
END:VTIMEZONE
BEGIN:VEVENT
DTSTART;TZID=Europe/Berlin:20250904T000000
DTEND;TZID=Europe/Berlin:20250904T235959
DTSTAMP:20260424T163336
CREATED:20250727T171432Z
LAST-MODIFIED:20250904T185907Z
UID:18640-1756944000-1757030399@wirsindried.de
SUMMARY:???? Helferkreis OEK Bachern Katastrophenschutz (Eisenbachtal)
DESCRIPTION:https://lra-aic-fdb.de/aktuelles/katastrophenschutz/
URL:https://wirsindried.de/veranstaltungen/%f0%9f%93%85-helferkreis-oek-bachern-katastrophenschutz-eisenbachtal-79
END:VEVENT
BEGIN:VEVENT
DTSTART;TZID=Europe/Berlin:20250904T000000
DTEND;TZID=Europe/Berlin:20250904T235959
DTSTAMP:20260424T163336
CREATED:20250727T171434Z
LAST-MODIFIED:20250904T185907Z
UID:18649-1756944000-1757030399@wirsindried.de
SUMMARY:???? Helferkreis OEK Bachern IT-Support (Eisenbachtal)
DESCRIPTION:http://faq.friedberg-bachern.de
URL:https://wirsindried.de/veranstaltungen/%f0%9f%93%85-helferkreis-oek-bachern-it-support-eisenbachtal-79
END:VEVENT
BEGIN:VEVENT
DTSTART;TZID=Europe/Berlin:20250904T073000
DTEND;TZID=Europe/Berlin:20250904T143000
DTSTAMP:20260424T163336
CREATED:20250726T171440Z
LAST-MODIFIED:20250903T185925Z
UID:18635-1756971000-1756996200@wirsindried.de
SUMMARY:???? Kindergarten Betreuung & Spielgruppen Bachern (Kinderangebote)
DESCRIPTION:https://www.pfarreiengemeinschaft-ottmaring.de/haus-des-kindes-st-hedwig/
URL:https://wirsindried.de/veranstaltungen/%f0%9f%a7%92-kindergarten-betreuung-spielgruppen-bachern-kinderangebote-398
END:VEVENT
BEGIN:VEVENT
DTSTART;TZID=Europe/Berlin:20250904T080000
DTEND;TZID=Europe/Berlin:20250904T120000
DTSTAMP:20260424T163336
CREATED:20250727T171433Z
LAST-MODIFIED:20250903T185924Z
UID:18645-1756972800-1756987200@wirsindried.de
SUMMARY:???? Pilot Bürgerbus Ried mit OEK Bachern (Lebensmittel\, Post\, Bank\, Arzt\, Weißwurst)
DESCRIPTION:https://goo.gl/maps/X7Prisw2GQKCUiRo9
URL:https://wirsindried.de/veranstaltungen/%f0%9f%9a%90-pilot-buergerbus-ried-mit-oek-bachern-lebensmittel-post-bank-arzt-weisswurst-172
END:VEVENT
BEGIN:VEVENT
DTSTART;TZID=Europe/Berlin:20250904T083000
DTEND;TZID=Europe/Berlin:20250904T163000
DTSTAMP:20260424T163336
CREATED:20250726T171441Z
LAST-MODIFIED:20250903T185924Z
UID:18637-1756974600-1757003400@wirsindried.de
SUMMARY:???? Nachbarschaftshilfe Fahrdienst BEATE Bürgernetz Friedberg (Begleitete Einkaufsfahrten\, Arztbesuche und Termine mit dem Fahrdienst im Ehrenamt)
DESCRIPTION:http://www.buergernetz-friedberg.de
URL:https://wirsindried.de/veranstaltungen/%f0%9f%9a%90-nachbarschaftshilfe-fahrdienst-beate-buergernetz-friedberg-begleitete-einkaufsfahrten-arztbesuche-und-termine-mit-dem-fahrdienst-im-ehrenamt-429
END:VEVENT
BEGIN:VEVENT
DTSTART;TZID=Europe/Berlin:20250904T120000
DTEND;TZID=Europe/Berlin:20250904T130000
DTSTAMP:20260424T163336
CREATED:20250726T171440Z
LAST-MODIFIED:20250903T185938Z
UID:18636-1756987200-1756990800@wirsindried.de
SUMMARY:???? MITTAGSTISCH Bürgernetz Friedberg Services (Senioren)
DESCRIPTION:http://www.buergernetz-friedberg.de
URL:https://wirsindried.de/veranstaltungen/%f0%9f%93%85-mittagstisch-buergernetz-friedberg-services-senioren-79
END:VEVENT
BEGIN:VEVENT
DTSTART;TZID=Europe/Berlin:20250904T140000
DTEND;TZID=Europe/Berlin:20250904T160000
DTSTAMP:20260424T163336
CREATED:20250727T171434Z
LAST-MODIFIED:20250903T185938Z
UID:18647-1756994400-1757001600@wirsindried.de
SUMMARY:???? REPAIR CAFÉ Bürgernetz Friedberg Services (Jung & Alt)
DESCRIPTION:http://www.buergernetz-friedberg.de
URL:https://wirsindried.de/veranstaltungen/%f0%9f%93%85-repair-cafe-buergernetz-friedberg-services-jung-alt-79
END:VEVENT
BEGIN:VEVENT
DTSTART;TZID=Europe/Berlin:20250904T190000
DTEND;TZID=Europe/Berlin:20250904T220000
DTSTAMP:20260424T163336
CREATED:20250727T171434Z
LAST-MODIFIED:20250904T185906Z
UID:18650-1757012400-1757023200@wirsindried.de
SUMMARY:???? Stadtrat Friedberg (Stadt Friedberg Bayern)
DESCRIPTION:https://buergerinfo-friedberg.digitalfabrix.de/
URL:https://wirsindried.de/veranstaltungen/%f0%9f%8f%a2-stadtrat-friedberg-stadt-friedberg-bayern-57
END:VEVENT
BEGIN:VEVENT
DTSTART;TZID=Europe/Berlin:20250904T190000
DTEND;TZID=Europe/Berlin:20250904T220000
DTSTAMP:20260424T163336
CREATED:20250727T171434Z
LAST-MODIFIED:20250904T185906Z
UID:18648-1757012400-1757023200@wirsindried.de
SUMMARY:???? Beirat Friedberg & Aichach (Landkreis Aichach-Friedberg Wittelsbacher Land)
DESCRIPTION:https://info.lra-aic-fdb.de/buergerinfo/info.php
URL:https://wirsindried.de/veranstaltungen/%f0%9f%8f%a2-beirat-friedberg-aichach-landkreis-aichach-friedberg-wittelsbacher-land-57
END:VEVENT
END:VCALENDAR